BEGIN:VCALENDAR
PRODID:http://www.kufer.de/kuferweb / DE
VERSION:2.0
METHOD:PUBLISH
CALSCALE:GREGORIAN
X-WR-TIMEZONE:Europe/Berlin
BEGIN:VTIMEZONE
TZID:Europe/Berlin
X-LIC-LOCATION:Europe/Berlin
BEGIN:DAYLIGHT
TZOFFSETFROM:+0100
TZOFFSETTO:+0200
TZNAME:CEST
DTSTART;TZID=Europe/Berlin:19700329T020000
RRULE:FREQ=YEARLY;INTERVAL=1;BYDAY=-1SU;BYMONTH=3
END:DAYLIGHT
BEGIN:STANDARD
TZOFFSETFROM:+0200
TZOFFSETTO:+0100
TZNAME:CET
DTSTART;TZID=Europe/Berlin:19701025T030000
RRULE:FREQ=YEARLY;INTERVAL=1;BYDAY=-1SU;BYMONTH=10
END:STANDARD
END:VTIMEZONE
BEGIN:VEVENT
DTSTAMP:20260421T142448
DTSTART;TZID=Europe/Berlin:20260507T153000
DTEND;TZID=Europe/Berlin:20260507T170000
UID:J-91505-B-20260507T153000@EV. FBSFAMILIENBILDUNGSSTÄTTE IN
SUMMARY:Miniclub Oldenswort (J-91505-B) 
LOCATION:Oldenswort: Karkenhuus, Osterender Chaussee 3, 25870 Oldenswort
END:VEVENT
BEGIN:VEVENT
DTSTAMP:20260421T142448
DTSTART;TZID=Europe/Berlin:20260521T153000
DTEND;TZID=Europe/Berlin:20260521T170000
UID:J-91505-B-20260521T153000@EV. FBSFAMILIENBILDUNGSSTÄTTE IN
SUMMARY:Miniclub Oldenswort (J-91505-B) 
LOCATION:Oldenswort: Karkenhuus, Osterender Chaussee 3, 25870 Oldenswort
END:VEVENT
BEGIN:VEVENT
DTSTAMP:20260421T142448
DTSTART;TZID=Europe/Berlin:20260528T153000
DTEND;TZID=Europe/Berlin:20260528T170000
UID:J-91505-B-20260528T153000@EV. FBSFAMILIENBILDUNGSSTÄTTE IN
SUMMARY:Miniclub Oldenswort (J-91505-B) 
LOCATION:Oldenswort: Karkenhuus, Osterender Chaussee 3, 25870 Oldenswort
END:VEVENT
BEGIN:VEVENT
DTSTAMP:20260421T142448
DTSTART;TZID=Europe/Berlin:20260604T153000
DTEND;TZID=Europe/Berlin:20260604T170000
UID:J-91505-B-20260604T153000@EV. FBSFAMILIENBILDUNGSSTÄTTE IN
SUMMARY:Miniclub Oldenswort (J-91505-B) 
LOCATION:Oldenswort: Karkenhuus, Osterender Chaussee 3, 25870 Oldenswort
END:VEVENT
BEGIN:VEVENT
DTSTAMP:20260421T142448
DTSTART;TZID=Europe/Berlin:20260611T153000
DTEND;TZID=Europe/Berlin:20260611T170000
UID:J-91505-B-20260611T153000@EV. FBSFAMILIENBILDUNGSSTÄTTE IN
SUMMARY:Miniclub Oldenswort (J-91505-B) 
LOCATION:Oldenswort: Karkenhuus, Osterender Chaussee 3, 25870 Oldenswort
END:VEVENT
BEGIN:VEVENT
DTSTAMP:20260421T142448
DTSTART;TZID=Europe/Berlin:20260618T153000
DTEND;TZID=Europe/Berlin:20260618T170000
UID:J-91505-B-20260618T153000@EV. FBSFAMILIENBILDUNGSSTÄTTE IN
SUMMARY:Miniclub Oldenswort (J-91505-B) 
LOCATION:Oldenswort: Karkenhuus, Osterender Chaussee 3, 25870 Oldenswort
END:VEVENT
BEGIN:VEVENT
DTSTAMP:20260421T142448
DTSTART;TZID=Europe/Berlin:20260625T153000
DTEND;TZID=Europe/Berlin:20260625T170000
UID:J-91505-B-20260625T153000@EV. FBSFAMILIENBILDUNGSSTÄTTE IN
SUMMARY:Miniclub Oldenswort (J-91505-B) 
LOCATION:Oldenswort: Karkenhuus, Osterender Chaussee 3, 25870 Oldenswort
END:VEVENT
BEGIN:VEVENT
DTSTAMP:20260421T142448
DTSTART;TZID=Europe/Berlin:20260702T153000
DTEND;TZID=Europe/Berlin:20260702T170000
UID:J-91505-B-20260702T153000@EV. FBSFAMILIENBILDUNGSSTÄTTE IN
SUMMARY:Miniclub Oldenswort (J-91505-B) 
LOCATION:Oldenswort: Karkenhuus, Osterender Chaussee 3, 25870 Oldenswort
END:VEVENT
END:VCALENDAR