BEGIN:VCALENDAR
PRODID:http://www.kufer.de/kuferweb / DE
VERSION:2.0
METHOD:PUBLISH
CALSCALE:GREGORIAN
X-WR-TIMEZONE:Europe/Berlin
BEGIN:VTIMEZONE
TZID:Europe/Berlin
X-LIC-LOCATION:Europe/Berlin
BEGIN:DAYLIGHT
TZOFFSETFROM:+0100
TZOFFSETTO:+0200
TZNAME:CEST
DTSTART;TZID=Europe/Berlin:19700329T020000
RRULE:FREQ=YEARLY;INTERVAL=1;BYDAY=-1SU;BYMONTH=3
END:DAYLIGHT
BEGIN:STANDARD
TZOFFSETFROM:+0200
TZOFFSETTO:+0100
TZNAME:CET
DTSTART;TZID=Europe/Berlin:19701025T030000
RRULE:FREQ=YEARLY;INTERVAL=1;BYDAY=-1SU;BYMONTH=10
END:STANDARD
END:VTIMEZONE
BEGIN:VEVENT
DTSTAMP:20260421T143414
DTSTART;TZID=Europe/Berlin:20260420T151500
DTEND;TZID=Europe/Berlin:20260420T164500
UID:J-91503-B-20260420T151500@EV. FBSFAMILIENBILDUNGSSTÄTTE IN
SUMMARY:Miniclub Joldelund (J-91503-B) 
LOCATION:Joldelund: Ev. Kindertagesstätte, Schulstraße 4a, 25862 Joldelund
END:VEVENT
BEGIN:VEVENT
DTSTAMP:20260421T143414
DTSTART;TZID=Europe/Berlin:20260427T151500
DTEND;TZID=Europe/Berlin:20260427T164500
UID:J-91503-B-20260427T151500@EV. FBSFAMILIENBILDUNGSSTÄTTE IN
SUMMARY:Miniclub Joldelund (J-91503-B) 
LOCATION:Joldelund: Ev. Kindertagesstätte, Schulstraße 4a, 25862 Joldelund
END:VEVENT
BEGIN:VEVENT
DTSTAMP:20260421T143414
DTSTART;TZID=Europe/Berlin:20260504T151500
DTEND;TZID=Europe/Berlin:20260504T164500
UID:J-91503-B-20260504T151500@EV. FBSFAMILIENBILDUNGSSTÄTTE IN
SUMMARY:Miniclub Joldelund (J-91503-B) 
LOCATION:Joldelund: Ev. Kindertagesstätte, Schulstraße 4a, 25862 Joldelund
END:VEVENT
BEGIN:VEVENT
DTSTAMP:20260421T143414
DTSTART;TZID=Europe/Berlin:20260511T151500
DTEND;TZID=Europe/Berlin:20260511T164500
UID:J-91503-B-20260511T151500@EV. FBSFAMILIENBILDUNGSSTÄTTE IN
SUMMARY:Miniclub Joldelund (J-91503-B) 
LOCATION:Joldelund: Ev. Kindertagesstätte, Schulstraße 4a, 25862 Joldelund
END:VEVENT
BEGIN:VEVENT
DTSTAMP:20260421T143414
DTSTART;TZID=Europe/Berlin:20260518T151500
DTEND;TZID=Europe/Berlin:20260518T164500
UID:J-91503-B-20260518T151500@EV. FBSFAMILIENBILDUNGSSTÄTTE IN
SUMMARY:Miniclub Joldelund (J-91503-B) 
LOCATION:Joldelund: Ev. Kindertagesstätte, Schulstraße 4a, 25862 Joldelund
END:VEVENT
BEGIN:VEVENT
DTSTAMP:20260421T143414
DTSTART;TZID=Europe/Berlin:20260601T151500
DTEND;TZID=Europe/Berlin:20260601T164500
UID:J-91503-B-20260601T151500@EV. FBSFAMILIENBILDUNGSSTÄTTE IN
SUMMARY:Miniclub Joldelund (J-91503-B) 
LOCATION:Joldelund: Ev. Kindertagesstätte, Schulstraße 4a, 25862 Joldelund
END:VEVENT
BEGIN:VEVENT
DTSTAMP:20260421T143414
DTSTART;TZID=Europe/Berlin:20260608T151500
DTEND;TZID=Europe/Berlin:20260608T164500
UID:J-91503-B-20260608T151500@EV. FBSFAMILIENBILDUNGSSTÄTTE IN
SUMMARY:Miniclub Joldelund (J-91503-B) 
LOCATION:Joldelund: Ev. Kindertagesstätte, Schulstraße 4a, 25862 Joldelund
END:VEVENT
BEGIN:VEVENT
DTSTAMP:20260421T143414
DTSTART;TZID=Europe/Berlin:20260615T151500
DTEND;TZID=Europe/Berlin:20260615T164500
UID:J-91503-B-20260615T151500@EV. FBSFAMILIENBILDUNGSSTÄTTE IN
SUMMARY:Miniclub Joldelund (J-91503-B) 
LOCATION:Joldelund: Ev. Kindertagesstätte, Schulstraße 4a, 25862 Joldelund
END:VEVENT
BEGIN:VEVENT
DTSTAMP:20260421T143414
DTSTART;TZID=Europe/Berlin:20260622T151500
DTEND;TZID=Europe/Berlin:20260622T164500
UID:J-91503-B-20260622T151500@EV. FBSFAMILIENBILDUNGSSTÄTTE IN
SUMMARY:Miniclub Joldelund (J-91503-B) 
LOCATION:Joldelund: Ev. Kindertagesstätte, Schulstraße 4a, 25862 Joldelund
END:VEVENT
END:VCALENDAR