BEGIN:VCALENDAR
PRODID:http://www.kufer.de/kuferweb / DE
VERSION:2.0
METHOD:PUBLISH
CALSCALE:GREGORIAN
X-WR-TIMEZONE:Europe/Berlin
BEGIN:VTIMEZONE
TZID:Europe/Berlin
X-LIC-LOCATION:Europe/Berlin
BEGIN:DAYLIGHT
TZOFFSETFROM:+0100
TZOFFSETTO:+0200
TZNAME:CEST
DTSTART;TZID=Europe/Berlin:19700329T020000
RRULE:FREQ=YEARLY;INTERVAL=1;BYDAY=-1SU;BYMONTH=3
END:DAYLIGHT
BEGIN:STANDARD
TZOFFSETFROM:+0200
TZOFFSETTO:+0100
TZNAME:CET
DTSTART;TZID=Europe/Berlin:19701025T030000
RRULE:FREQ=YEARLY;INTERVAL=1;BYDAY=-1SU;BYMONTH=10
END:STANDARD
END:VTIMEZONE
BEGIN:VEVENT
DTSTAMP:20260421T114611
DTSTART;TZID=Europe/Berlin:20260414T083000
DTEND;TZID=Europe/Berlin:20260414T113000
UID:J-90604-B-20260414T083000@EV. FBSFAMILIENBILDUNGSSTÄTTE IN
SUMMARY:Spielkreis Hattstedt (J-90604-B) 
LOCATION:Hattstedt: Turnhalle der Jens-Iwersen Schule, Nordseestraße 2, 25856 Hattstedt
END:VEVENT
BEGIN:VEVENT
DTSTAMP:20260421T114611
DTSTART;TZID=Europe/Berlin:20260416T083000
DTEND;TZID=Europe/Berlin:20260416T113000
UID:J-90604-B-20260416T083000@EV. FBSFAMILIENBILDUNGSSTÄTTE IN
SUMMARY:Spielkreis Hattstedt (J-90604-B) 
LOCATION:Hattstedt: Turnhalle der Jens-Iwersen Schule, Nordseestraße 2, 25856 Hattstedt
END:VEVENT
BEGIN:VEVENT
DTSTAMP:20260421T114611
DTSTART;TZID=Europe/Berlin:20260421T083000
DTEND;TZID=Europe/Berlin:20260421T113000
UID:J-90604-B-20260421T083000@EV. FBSFAMILIENBILDUNGSSTÄTTE IN
SUMMARY:Spielkreis Hattstedt (J-90604-B) 
LOCATION:Hattstedt: Turnhalle der Jens-Iwersen Schule, Nordseestraße 2, 25856 Hattstedt
END:VEVENT
BEGIN:VEVENT
DTSTAMP:20260421T114611
DTSTART;TZID=Europe/Berlin:20260423T083000
DTEND;TZID=Europe/Berlin:20260423T113000
UID:J-90604-B-20260423T083000@EV. FBSFAMILIENBILDUNGSSTÄTTE IN
SUMMARY:Spielkreis Hattstedt (J-90604-B) 
LOCATION:Hattstedt: Turnhalle der Jens-Iwersen Schule, Nordseestraße 2, 25856 Hattstedt
END:VEVENT
BEGIN:VEVENT
DTSTAMP:20260421T114611
DTSTART;TZID=Europe/Berlin:20260428T083000
DTEND;TZID=Europe/Berlin:20260428T113000
UID:J-90604-B-20260428T083000@EV. FBSFAMILIENBILDUNGSSTÄTTE IN
SUMMARY:Spielkreis Hattstedt (J-90604-B) 
LOCATION:Hattstedt: Turnhalle der Jens-Iwersen Schule, Nordseestraße 2, 25856 Hattstedt
END:VEVENT
BEGIN:VEVENT
DTSTAMP:20260421T114611
DTSTART;TZID=Europe/Berlin:20260430T083000
DTEND;TZID=Europe/Berlin:20260430T113000
UID:J-90604-B-20260430T083000@EV. FBSFAMILIENBILDUNGSSTÄTTE IN
SUMMARY:Spielkreis Hattstedt (J-90604-B) 
LOCATION:Hattstedt: Turnhalle der Jens-Iwersen Schule, Nordseestraße 2, 25856 Hattstedt
END:VEVENT
BEGIN:VEVENT
DTSTAMP:20260421T114611
DTSTART;TZID=Europe/Berlin:20260505T083000
DTEND;TZID=Europe/Berlin:20260505T113000
UID:J-90604-B-20260505T083000@EV. FBSFAMILIENBILDUNGSSTÄTTE IN
SUMMARY:Spielkreis Hattstedt (J-90604-B) 
LOCATION:Hattstedt: Turnhalle der Jens-Iwersen Schule, Nordseestraße 2, 25856 Hattstedt
END:VEVENT
BEGIN:VEVENT
DTSTAMP:20260421T114611
DTSTART;TZID=Europe/Berlin:20260507T083000
DTEND;TZID=Europe/Berlin:20260507T113000
UID:J-90604-B-20260507T083000@EV. FBSFAMILIENBILDUNGSSTÄTTE IN
SUMMARY:Spielkreis Hattstedt (J-90604-B) 
LOCATION:Hattstedt: Turnhalle der Jens-Iwersen Schule, Nordseestraße 2, 25856 Hattstedt
END:VEVENT
BEGIN:VEVENT
DTSTAMP:20260421T114611
DTSTART;TZID=Europe/Berlin:20260512T083000
DTEND;TZID=Europe/Berlin:20260512T113000
UID:J-90604-B-20260512T083000@EV. FBSFAMILIENBILDUNGSSTÄTTE IN
SUMMARY:Spielkreis Hattstedt (J-90604-B) 
LOCATION:Hattstedt: Turnhalle der Jens-Iwersen Schule, Nordseestraße 2, 25856 Hattstedt
END:VEVENT
BEGIN:VEVENT
DTSTAMP:20260421T114611
DTSTART;TZID=Europe/Berlin:20260514T083000
DTEND;TZID=Europe/Berlin:20260514T113000
UID:J-90604-B-20260514T083000@EV. FBSFAMILIENBILDUNGSSTÄTTE IN
SUMMARY:Spielkreis Hattstedt (J-90604-B) 
LOCATION:Hattstedt: Turnhalle der Jens-Iwersen Schule, Nordseestraße 2, 25856 Hattstedt
END:VEVENT
BEGIN:VEVENT
DTSTAMP:20260421T114611
DTSTART;TZID=Europe/Berlin:20260519T083000
DTEND;TZID=Europe/Berlin:20260519T113000
UID:J-90604-B-20260519T083000@EV. FBSFAMILIENBILDUNGSSTÄTTE IN
SUMMARY:Spielkreis Hattstedt (J-90604-B) 
LOCATION:Hattstedt: Turnhalle der Jens-Iwersen Schule, Nordseestraße 2, 25856 Hattstedt
END:VEVENT
BEGIN:VEVENT
DTSTAMP:20260421T114611
DTSTART;TZID=Europe/Berlin:20260521T083000
DTEND;TZID=Europe/Berlin:20260521T113000
UID:J-90604-B-20260521T083000@EV. FBSFAMILIENBILDUNGSSTÄTTE IN
SUMMARY:Spielkreis Hattstedt (J-90604-B) 
LOCATION:Hattstedt: Turnhalle der Jens-Iwersen Schule, Nordseestraße 2, 25856 Hattstedt
END:VEVENT
BEGIN:VEVENT
DTSTAMP:20260421T114611
DTSTART;TZID=Europe/Berlin:20260526T083000
DTEND;TZID=Europe/Berlin:20260526T113000
UID:J-90604-B-20260526T083000@EV. FBSFAMILIENBILDUNGSSTÄTTE IN
SUMMARY:Spielkreis Hattstedt (J-90604-B) 
LOCATION:Hattstedt: Turnhalle der Jens-Iwersen Schule, Nordseestraße 2, 25856 Hattstedt
END:VEVENT
BEGIN:VEVENT
DTSTAMP:20260421T114611
DTSTART;TZID=Europe/Berlin:20260528T083000
DTEND;TZID=Europe/Berlin:20260528T113000
UID:J-90604-B-20260528T083000@EV. FBSFAMILIENBILDUNGSSTÄTTE IN
SUMMARY:Spielkreis Hattstedt (J-90604-B) 
LOCATION:Hattstedt: Turnhalle der Jens-Iwersen Schule, Nordseestraße 2, 25856 Hattstedt
END:VEVENT
BEGIN:VEVENT
DTSTAMP:20260421T114611
DTSTART;TZID=Europe/Berlin:20260602T083000
DTEND;TZID=Europe/Berlin:20260602T113000
UID:J-90604-B-20260602T083000@EV. FBSFAMILIENBILDUNGSSTÄTTE IN
SUMMARY:Spielkreis Hattstedt (J-90604-B) 
LOCATION:Hattstedt: Turnhalle der Jens-Iwersen Schule, Nordseestraße 2, 25856 Hattstedt
END:VEVENT
BEGIN:VEVENT
DTSTAMP:20260421T114611
DTSTART;TZID=Europe/Berlin:20260604T083000
DTEND;TZID=Europe/Berlin:20260604T113000
UID:J-90604-B-20260604T083000@EV. FBSFAMILIENBILDUNGSSTÄTTE IN
SUMMARY:Spielkreis Hattstedt (J-90604-B) 
LOCATION:Hattstedt: Turnhalle der Jens-Iwersen Schule, Nordseestraße 2, 25856 Hattstedt
END:VEVENT
BEGIN:VEVENT
DTSTAMP:20260421T114611
DTSTART;TZID=Europe/Berlin:20260609T083000
DTEND;TZID=Europe/Berlin:20260609T113000
UID:J-90604-B-20260609T083000@EV. FBSFAMILIENBILDUNGSSTÄTTE IN
SUMMARY:Spielkreis Hattstedt (J-90604-B) 
LOCATION:Hattstedt: Turnhalle der Jens-Iwersen Schule, Nordseestraße 2, 25856 Hattstedt
END:VEVENT
BEGIN:VEVENT
DTSTAMP:20260421T114611
DTSTART;TZID=Europe/Berlin:20260611T083000
DTEND;TZID=Europe/Berlin:20260611T113000
UID:J-90604-B-20260611T083000@EV. FBSFAMILIENBILDUNGSSTÄTTE IN
SUMMARY:Spielkreis Hattstedt (J-90604-B) 
LOCATION:Hattstedt: Turnhalle der Jens-Iwersen Schule, Nordseestraße 2, 25856 Hattstedt
END:VEVENT
BEGIN:VEVENT
DTSTAMP:20260421T114611
DTSTART;TZID=Europe/Berlin:20260616T083000
DTEND;TZID=Europe/Berlin:20260616T113000
UID:J-90604-B-20260616T083000@EV. FBSFAMILIENBILDUNGSSTÄTTE IN
SUMMARY:Spielkreis Hattstedt (J-90604-B) 
LOCATION:Hattstedt: Turnhalle der Jens-Iwersen Schule, Nordseestraße 2, 25856 Hattstedt
END:VEVENT
BEGIN:VEVENT
DTSTAMP:20260421T114611
DTSTART;TZID=Europe/Berlin:20260618T083000
DTEND;TZID=Europe/Berlin:20260618T113000
UID:J-90604-B-20260618T083000@EV. FBSFAMILIENBILDUNGSSTÄTTE IN
SUMMARY:Spielkreis Hattstedt (J-90604-B) 
LOCATION:Hattstedt: Turnhalle der Jens-Iwersen Schule, Nordseestraße 2, 25856 Hattstedt
END:VEVENT
BEGIN:VEVENT
DTSTAMP:20260421T114611
DTSTART;TZID=Europe/Berlin:20260623T083000
DTEND;TZID=Europe/Berlin:20260623T113000
UID:J-90604-B-20260623T083000@EV. FBSFAMILIENBILDUNGSSTÄTTE IN
SUMMARY:Spielkreis Hattstedt (J-90604-B) 
LOCATION:Hattstedt: Turnhalle der Jens-Iwersen Schule, Nordseestraße 2, 25856 Hattstedt
END:VEVENT
BEGIN:VEVENT
DTSTAMP:20260421T114611
DTSTART;TZID=Europe/Berlin:20260625T083000
DTEND;TZID=Europe/Berlin:20260625T113000
UID:J-90604-B-20260625T083000@EV. FBSFAMILIENBILDUNGSSTÄTTE IN
SUMMARY:Spielkreis Hattstedt (J-90604-B) 
LOCATION:Hattstedt: Turnhalle der Jens-Iwersen Schule, Nordseestraße 2, 25856 Hattstedt
END:VEVENT
BEGIN:VEVENT
DTSTAMP:20260421T114611
DTSTART;TZID=Europe/Berlin:20260630T083000
DTEND;TZID=Europe/Berlin:20260630T113000
UID:J-90604-B-20260630T083000@EV. FBSFAMILIENBILDUNGSSTÄTTE IN
SUMMARY:Spielkreis Hattstedt (J-90604-B) 
LOCATION:Hattstedt: Turnhalle der Jens-Iwersen Schule, Nordseestraße 2, 25856 Hattstedt
END:VEVENT
BEGIN:VEVENT
DTSTAMP:20260421T114611
DTSTART;TZID=Europe/Berlin:20260702T083000
DTEND;TZID=Europe/Berlin:20260702T113000
UID:J-90604-B-20260702T083000@EV. FBSFAMILIENBILDUNGSSTÄTTE IN
SUMMARY:Spielkreis Hattstedt (J-90604-B) 
LOCATION:Hattstedt: Turnhalle der Jens-Iwersen Schule, Nordseestraße 2, 25856 Hattstedt
END:VEVENT
END:VCALENDAR