BEGIN:VCALENDAR
PRODID:http://www.kufer.de/kuferweb / DE
VERSION:2.0
METHOD:PUBLISH
CALSCALE:GREGORIAN
X-WR-TIMEZONE:Europe/Berlin
BEGIN:VTIMEZONE
TZID:Europe/Berlin
X-LIC-LOCATION:Europe/Berlin
BEGIN:DAYLIGHT
TZOFFSETFROM:+0100
TZOFFSETTO:+0200
TZNAME:CEST
DTSTART;TZID=Europe/Berlin:19700329T020000
RRULE:FREQ=YEARLY;INTERVAL=1;BYDAY=-1SU;BYMONTH=3
END:DAYLIGHT
BEGIN:STANDARD
TZOFFSETFROM:+0200
TZOFFSETTO:+0100
TZNAME:CET
DTSTART;TZID=Europe/Berlin:19701025T030000
RRULE:FREQ=YEARLY;INTERVAL=1;BYDAY=-1SU;BYMONTH=10
END:STANDARD
END:VTIMEZONE
BEGIN:VEVENT
DTSTAMP:20260423T161928
DTSTART;TZID=Europe/Berlin:20260529T140000
DTEND;TZID=Europe/Berlin:20260529T153000
UID:J-50711-B-20260529T140000@EV. FBSFAMILIENBILDUNGSSTÄTTE IN
SUMMARY:Delfi ® Husum für Väter (J-50711-B) 
LOCATION:Husum: FBS_MGH Spielraum Maus, Woldsenstraße 47, 25813 Husum
END:VEVENT
BEGIN:VEVENT
DTSTAMP:20260423T161928
DTSTART;TZID=Europe/Berlin:20260605T140000
DTEND;TZID=Europe/Berlin:20260605T153000
UID:J-50711-B-20260605T140000@EV. FBSFAMILIENBILDUNGSSTÄTTE IN
SUMMARY:Delfi ® Husum für Väter (J-50711-B) 
LOCATION:Husum: FBS_MGH Spielraum Maus, Woldsenstraße 47, 25813 Husum
END:VEVENT
BEGIN:VEVENT
DTSTAMP:20260423T161928
DTSTART;TZID=Europe/Berlin:20260612T140000
DTEND;TZID=Europe/Berlin:20260612T153000
UID:J-50711-B-20260612T140000@EV. FBSFAMILIENBILDUNGSSTÄTTE IN
SUMMARY:Delfi ® Husum für Väter (J-50711-B) 
LOCATION:Husum: FBS_MGH Spielraum Maus, Woldsenstraße 47, 25813 Husum
END:VEVENT
BEGIN:VEVENT
DTSTAMP:20260423T161928
DTSTART;TZID=Europe/Berlin:20260619T140000
DTEND;TZID=Europe/Berlin:20260619T153000
UID:J-50711-B-20260619T140000@EV. FBSFAMILIENBILDUNGSSTÄTTE IN
SUMMARY:Delfi ® Husum für Väter (J-50711-B) 
LOCATION:Husum: FBS_MGH Spielraum Maus, Woldsenstraße 47, 25813 Husum
END:VEVENT
BEGIN:VEVENT
DTSTAMP:20260423T161928
DTSTART;TZID=Europe/Berlin:20260626T140000
DTEND;TZID=Europe/Berlin:20260626T153000
UID:J-50711-B-20260626T140000@EV. FBSFAMILIENBILDUNGSSTÄTTE IN
SUMMARY:Delfi ® Husum für Väter (J-50711-B) 
LOCATION:Husum: FBS_MGH Spielraum Maus, Woldsenstraße 47, 25813 Husum
END:VEVENT
BEGIN:VEVENT
DTSTAMP:20260423T161928
DTSTART;TZID=Europe/Berlin:20260703T140000
DTEND;TZID=Europe/Berlin:20260703T153000
UID:J-50711-B-20260703T140000@EV. FBSFAMILIENBILDUNGSSTÄTTE IN
SUMMARY:Delfi ® Husum für Väter (J-50711-B) 
LOCATION:Husum: FBS_MGH Spielraum Maus, Woldsenstraße 47, 25813 Husum
END:VEVENT
BEGIN:VEVENT
DTSTAMP:20260423T161928
DTSTART;TZID=Europe/Berlin:20260710T140000
DTEND;TZID=Europe/Berlin:20260710T153000
UID:J-50711-B-20260710T140000@EV. FBSFAMILIENBILDUNGSSTÄTTE IN
SUMMARY:Delfi ® Husum für Väter (J-50711-B) 
LOCATION:Husum: FBS_MGH Spielraum Maus, Woldsenstraße 47, 25813 Husum
END:VEVENT
BEGIN:VEVENT
DTSTAMP:20260423T161928
DTSTART;TZID=Europe/Berlin:20260717T140000
DTEND;TZID=Europe/Berlin:20260717T153000
UID:J-50711-B-20260717T140000@EV. FBSFAMILIENBILDUNGSSTÄTTE IN
SUMMARY:Delfi ® Husum für Väter (J-50711-B) 
LOCATION:Husum: FBS_MGH Spielraum Maus, Woldsenstraße 47, 25813 Husum
END:VEVENT
BEGIN:VEVENT
DTSTAMP:20260423T161928
DTSTART;TZID=Europe/Berlin:20260724T140000
DTEND;TZID=Europe/Berlin:20260724T153000
UID:J-50711-B-20260724T140000@EV. FBSFAMILIENBILDUNGSSTÄTTE IN
SUMMARY:Delfi ® Husum für Väter (J-50711-B) 
LOCATION:Husum: FBS_MGH Spielraum Maus, Woldsenstraße 47, 25813 Husum
END:VEVENT
BEGIN:VEVENT
DTSTAMP:20260423T161928
DTSTART;TZID=Europe/Berlin:20260731T140000
DTEND;TZID=Europe/Berlin:20260731T153000
UID:J-50711-B-20260731T140000@EV. FBSFAMILIENBILDUNGSSTÄTTE IN
SUMMARY:Delfi ® Husum für Väter (J-50711-B) 
LOCATION:Husum: FBS_MGH Spielraum Maus, Woldsenstraße 47, 25813 Husum
END:VEVENT
END:VCALENDAR