BEGIN:VCALENDAR
PRODID:http://www.kufer.de/kuferweb / DE
VERSION:2.0
METHOD:PUBLISH
CALSCALE:GREGORIAN
X-WR-TIMEZONE:Europe/Berlin
BEGIN:VTIMEZONE
TZID:Europe/Berlin
X-LIC-LOCATION:Europe/Berlin
BEGIN:DAYLIGHT
TZOFFSETFROM:+0100
TZOFFSETTO:+0200
TZNAME:CEST
DTSTART;TZID=Europe/Berlin:19700329T020000
RRULE:FREQ=YEARLY;INTERVAL=1;BYDAY=-1SU;BYMONTH=3
END:DAYLIGHT
BEGIN:STANDARD
TZOFFSETFROM:+0200
TZOFFSETTO:+0100
TZNAME:CET
DTSTART;TZID=Europe/Berlin:19701025T030000
RRULE:FREQ=YEARLY;INTERVAL=1;BYDAY=-1SU;BYMONTH=10
END:STANDARD
END:VTIMEZONE
BEGIN:VEVENT
DTSTAMP:20260421T101811
DTSTART;TZID=Europe/Berlin:20260130T140000
DTEND;TZID=Europe/Berlin:20260130T153000
UID:J-50711-A-20260130T140000@EV. FBSFAMILIENBILDUNGSSTÄTTE IN
SUMMARY:Delfi ® Husum für Väter (J-50711-A) 
LOCATION:Husum: FBS_MGH Spielraum Maus, Woldsenstraße 47, 25813 Husum
END:VEVENT
BEGIN:VEVENT
DTSTAMP:20260421T101811
DTSTART;TZID=Europe/Berlin:20260206T140000
DTEND;TZID=Europe/Berlin:20260206T153000
UID:J-50711-A-20260206T140000@EV. FBSFAMILIENBILDUNGSSTÄTTE IN
SUMMARY:Delfi ® Husum für Väter (J-50711-A) 
LOCATION:Husum: FBS_MGH Spielraum Maus, Woldsenstraße 47, 25813 Husum
END:VEVENT
BEGIN:VEVENT
DTSTAMP:20260421T101811
DTSTART;TZID=Europe/Berlin:20260213T140000
DTEND;TZID=Europe/Berlin:20260213T153000
UID:J-50711-A-20260213T140000@EV. FBSFAMILIENBILDUNGSSTÄTTE IN
SUMMARY:Delfi ® Husum für Väter (J-50711-A) 
LOCATION:Husum: FBS_MGH Spielraum Maus, Woldsenstraße 47, 25813 Husum
END:VEVENT
BEGIN:VEVENT
DTSTAMP:20260421T101811
DTSTART;TZID=Europe/Berlin:20260306T140000
DTEND;TZID=Europe/Berlin:20260306T153000
UID:J-50711-A-20260306T140000@EV. FBSFAMILIENBILDUNGSSTÄTTE IN
SUMMARY:Delfi ® Husum für Väter (J-50711-A) 
LOCATION:Husum: FBS_MGH Spielraum Maus, Woldsenstraße 47, 25813 Husum
END:VEVENT
BEGIN:VEVENT
DTSTAMP:20260421T101811
DTSTART;TZID=Europe/Berlin:20260313T140000
DTEND;TZID=Europe/Berlin:20260313T153000
UID:J-50711-A-20260313T140000@EV. FBSFAMILIENBILDUNGSSTÄTTE IN
SUMMARY:Delfi ® Husum für Väter (J-50711-A) 
LOCATION:Husum: FBS_MGH Spielraum Maus, Woldsenstraße 47, 25813 Husum
END:VEVENT
BEGIN:VEVENT
DTSTAMP:20260421T101811
DTSTART;TZID=Europe/Berlin:20260327T140000
DTEND;TZID=Europe/Berlin:20260327T153000
UID:J-50711-A-20260327T140000@EV. FBSFAMILIENBILDUNGSSTÄTTE IN
SUMMARY:Delfi ® Husum für Väter (J-50711-A) 
LOCATION:Husum: FBS_MGH Spielraum Maus, Woldsenstraße 47, 25813 Husum
END:VEVENT
BEGIN:VEVENT
DTSTAMP:20260421T101811
DTSTART;TZID=Europe/Berlin:20260417T140000
DTEND;TZID=Europe/Berlin:20260417T153000
UID:J-50711-A-20260417T140000@EV. FBSFAMILIENBILDUNGSSTÄTTE IN
SUMMARY:Delfi ® Husum für Väter (J-50711-A) 
LOCATION:Husum: FBS_MGH Spielraum Maus, Woldsenstraße 47, 25813 Husum
END:VEVENT
BEGIN:VEVENT
DTSTAMP:20260421T101811
DTSTART;TZID=Europe/Berlin:20260424T140000
DTEND;TZID=Europe/Berlin:20260424T153000
UID:J-50711-A-20260424T140000@EV. FBSFAMILIENBILDUNGSSTÄTTE IN
SUMMARY:Delfi ® Husum für Väter (J-50711-A) 
LOCATION:Husum: FBS_MGH Spielraum Maus, Woldsenstraße 47, 25813 Husum
END:VEVENT
BEGIN:VEVENT
DTSTAMP:20260421T101811
DTSTART;TZID=Europe/Berlin:20260508T140000
DTEND;TZID=Europe/Berlin:20260508T153000
UID:J-50711-A-20260508T140000@EV. FBSFAMILIENBILDUNGSSTÄTTE IN
SUMMARY:Delfi ® Husum für Väter (J-50711-A) 
LOCATION:Husum: FBS_MGH Spielraum Maus, Woldsenstraße 47, 25813 Husum
END:VEVENT
BEGIN:VEVENT
DTSTAMP:20260421T101811
DTSTART;TZID=Europe/Berlin:20260522T140000
DTEND;TZID=Europe/Berlin:20260522T153000
UID:J-50711-A-20260522T140000@EV. FBSFAMILIENBILDUNGSSTÄTTE IN
SUMMARY:Delfi ® Husum für Väter (J-50711-A) 
LOCATION:Husum: FBS_MGH Spielraum Maus, Woldsenstraße 47, 25813 Husum
END:VEVENT
END:VCALENDAR